View In:
ArcGIS JavaScript
ArcGIS Online Map Viewer
ArcGIS Earth
ArcMap
View Footprint In:
ArcGIS Online Map Viewer
Service Description: 4-Band ESRI Dynamic Image Service for 2018 orthoimagery. This 4-Band Image Service allows ESRI users to change between Natural Color and Color Infrared. More information available at http://gis.ny.gov/gateway/orthoprogram/lot18/
Includes 4-Band Westchester orthoimagery provided by Westchester County GIS.
Name: 2018_4Band
Description: 4-Band ESRI Dynamic Image Service for 2018 orthoimagery. This 4-Band Image Service allows ESRI users to change between Natural Color and Color Infrared. More information available at http://gis.ny.gov/gateway/orthoprogram/lot18/
Includes 4-Band Westchester orthoimagery provided by Westchester County GIS.
Single Fused Map Cache: false
Extent:
XMin: -8641406.1416
YMin: 4937244.813294134
XMax: -8173099.816987351
YMax: 5448297.747000001
Spatial Reference: 102100
(3857)
Initial Extent:
XMin: -8641406.1416
YMin: 4937244.813294134
XMax: -8173099.816987351
YMax: 5448297.747000001
Spatial Reference: 102100
(3857)
Full Extent:
XMin: -8641406.1416
YMin: 4937244.813294134
XMax: -8173099.816987351
YMax: 5448297.747000001
Spatial Reference: 102100
(3857)
Pixel Size X: 0.1524003048006096
Pixel Size Y: 0.15240030480060957
Band Count: 4
Pixel Type: U8
RasterFunction Infos: {"rasterFunctionInfos": [{
"name": "None",
"description": "A No-Op Function.",
"help": ""
}]}
Mensuration Capabilities: Basic
Has Histograms: false
Has Colormap: false
Has Multi Dimensions : false
Rendering Rule:
Min Scale: 0
Max Scale: 0
Copyright Text: NYS ITS GIS Program Office
Service Data Type: esriImageServiceDataTypeGeneric
Min Values: N/A
Max Values: N/A
Mean Values: N/A
Standard Deviation Values: N/A
Object ID Field: OBJECTID
Fields:
-
OBJECTID
(
type: esriFieldTypeOID, alias: OBJECTID
)
-
Shape
(
type: esriFieldTypeGeometry, alias: Shape
)
-
Name
(
type: esriFieldTypeString, alias: Name, length: 200
)
-
LowPS
(
type: esriFieldTypeDouble, alias: LowPS
)
-
Category
(
type: esriFieldTypeInteger, alias: Category
, Coded Values:
[0: Unknown]
, [1: Primary]
, [2: Overview]
, ...6 more...
)
-
lot
(
type: esriFieldTypeSmallInteger, alias: lot
)
Default Mosaic Method: ByAttribute
Allowed Mosaic Methods: ByAttribute,NorthWest,Center,LockRaster,Nadir,Viewpoint,Seamline,None
SortField: ZOrder
SortValue: 0
Mosaic Operator: First
Default Compression Quality: 75
Default Resampling Method: Bilinear
Max Record Count: 1000
Max Image Height: 40000
Max Image Width: 40000
Max Download Image Count: 100
Max Mosaic Image Count: 100
Allow Raster Function: true
Allow Copy: null
Allow Analysis: null
Allow Compute TiePoints: false
Supports Statistics: true
Supports Advanced Queries: true
Use StandardizedQueries: true
Raster Type Infos:
Name: Raster Dataset
Description: Supports all ArcGIS Raster Datasets
Help:
Has Raster Attribute Table: false
Edit Fields Info: null
Ownership Based AccessControl For Rasters: null
Child Resources:
Info
Key Properties
Legend
Raster Function Infos
Supported Operations:
Export Image
Query
Identify
Download Rasters
Measure
Compute Histograms
Compute Statistics Histograms
Get Samples
Compute Class Statistics
Query Boundary
Compute Pixel Location
Validate
Project