View In:
ArcGIS JavaScript
ArcGIS Online Map Viewer
ArcGIS Earth
ArcMap
ArcGIS Pro
View Footprint In:
ArcGIS Online Map Viewer
Service Description: Orthoimagery from Spring 2020. The service provides a Natural Color view at approximately 12 inch resolution. The source orthoimagery is 4-band at resolutions of 12 or 6 inches. For more information see https://gis.ny.gov/2020-orthoimagery. Please contact NYS ITS Geospatial Services at nysgis@its.ny.gov if you have any questions.
Map Name: Layers
Legend
All Layers and Tables
Layers:
Description:
Copyright Text: NYS ITS Geospatial Services
Spatial Reference:
102100
(3857)
Single Fused Map Cache: true
Tile Info:
- Height: 256
- Width: 256
- DPI: 96
-
Levels of Detail: 20
-
Level ID: 0
[ Start Tile, End Tile ]
- Resolution: 156543.03392800014
- Scale: 5.91657527591555E8
-
Level ID: 1
[ Start Tile, End Tile ]
- Resolution: 78271.51696399994
- Scale: 2.95828763795777E8
-
Level ID: 2
[ Start Tile, End Tile ]
- Resolution: 39135.75848200009
- Scale: 1.47914381897889E8
-
Level ID: 3
[ Start Tile, End Tile ]
- Resolution: 19567.87924099992
- Scale: 7.3957190948944E7
-
Level ID: 4
[ Start Tile, End Tile ]
- Resolution: 9783.93962049996
- Scale: 3.6978595474472E7
-
Level ID: 5
[ Start Tile, End Tile ]
- Resolution: 4891.96981024998
- Scale: 1.8489297737236E7
- Format: MIXED
- Compression Quality: 75.0
- Origin: X: -2.0037508342787E7
Y: 2.0037508342787E7
- Spatial Reference: 102100
(3857)
Initial Extent:
XMin: -9053506.03658063
YMin: 4720744.280723902
XMax: -7672849.859513812
YMax: 5815285.641555532
Spatial Reference: 102100
(3857)
Full Extent:
XMin: -8738855.37884702
YMin: 4936063.219580673
XMax: -7997240.59609798
YMax: 5629186.93925044
Spatial Reference: 102100
(3857)
Units: esriMeters
Supported Image Format Types: PNG32,PNG24,PNG,JPG,DIB,TIFF,EMF,PS,PDF,GIF,SVG,SVGZ,BMP
Document Info:
Title: NYS Orthoimagery - 2020 Color
Author: NYS ITS Geospatial Services
Comments: Orthoimagery from Spring 2020. The service provides a Natural Color view at approximately 12 inch resolution. The source orthoimagery is 4-band at resolutions of 12 or 6 inches. For more information see https://gis.ny.gov/2020-orthoimagery. Please contact NYS ITS Geospatial Services at nysgis@its.ny.gov if you have any questions.
Subject: Orthoimagery produced by NY State from Spring 2020 aerial photography.
Category:
Keywords: NYSDOP, Orthoimagery
AntialiasingMode: None
TextAntialiasingMode: Force
Supports Dynamic Layers: false
MaxRecordCount: 1000
MaxImageHeight: 4096
MaxImageWidth: 4096
Supported Query Formats: JSON, geoJSON
Supports Query Data Elements:
Min Scale: 5.91657527591555E8
Max Scale: 1128.497176
Supports Datum Transformation: true
Child Resources:
Info
Supported Operations:
Export Map
Return Updates