View In:
ArcGIS JavaScript
ArcGIS Online Map Viewer
ArcGIS Earth
ArcMap
ArcGIS Pro
View Footprint In:
ArcGIS Online Map Viewer
Service Description: USDA National Agricultural Imagery Program (NAIP) orthoimagery from flights in late Summer and early Fall 2019. Statewide leaf-on coverage presented in natural color (RGB) at 60-cm resolution. Source orthoimagery is 4-band at 60-cm.
Map Name: Layers
Legend
All Layers and Tables
Layers:
Description:
Copyright Text: USDA; NYS ITS Geospatial Services
Spatial Reference:
102100
(3857)
Single Fused Map Cache: true
Tile Info:
- Height: 256
- Width: 256
- DPI: 96
-
Levels of Detail: 19
-
Level ID: 0
[ Start Tile, End Tile ]
- Resolution: 156543.03392800014
- Scale: 5.91657527591555E8
-
Level ID: 1
[ Start Tile, End Tile ]
- Resolution: 78271.51696399994
- Scale: 2.95828763795777E8
-
Level ID: 2
[ Start Tile, End Tile ]
- Resolution: 39135.75848200009
- Scale: 1.47914381897889E8
-
Level ID: 3
[ Start Tile, End Tile ]
- Resolution: 19567.87924099992
- Scale: 7.3957190948944E7
-
Level ID: 4
[ Start Tile, End Tile ]
- Resolution: 9783.93962049996
- Scale: 3.6978595474472E7
-
Level ID: 5
[ Start Tile, End Tile ]
- Resolution: 4891.96981024998
- Scale: 1.8489297737236E7
- Format: MIXED
- Compression Quality: 75.0
- Origin: X: -2.0037508342787E7
Y: 2.0037508342787E7
- Spatial Reference: 102100
(3857)
Initial Extent:
XMin: -9102084.435215086
YMin: 5101299.970331635
XMax: -7757193.298326095
YMax: 5806952.727341291
Spatial Reference: 102100
(3857)
Full Extent:
XMin: -8923434.073356414
YMin: 4905314.130915095
XMax: -7935843.660184765
YMax: 5642403.376621805
Spatial Reference: 102100
(3857)
Units: esriMeters
Supported Image Format Types: PNG32,PNG24,PNG,JPG,DIB,TIFF,EMF,PS,PDF,GIF,SVG,SVGZ,BMP
Document Info:
Title:
Author: NYS ITS Geospatial Services with data provided by USDA
Comments: USDA National Agricultural Imagery Program (NAIP) orthoimagery from flights in late Summer and early Fall 2019. Statewide leaf-on coverage presented in natural color (RGB) at 60-cm resolution. Source orthoimagery is 4-band at 60-cm.
Subject: USDA (NAIP) orthoimagery from flights in late Summer and early Fall 2019. Leaf on coverage in natural color (RGB). Source imagery is 4 band 60 cm
Category:
Keywords: Imagery; 2019;
AntialiasingMode: None
TextAntialiasingMode: Force
Supports Dynamic Layers: false
MaxRecordCount: 1000
MaxImageHeight: 4096
MaxImageWidth: 4096
Supported Query Formats: JSON, geoJSON
Supports Query Data Elements:
Min Scale: 5.91657527591555E8
Max Scale: 2256.994353
Supports Datum Transformation: true
Child Resources:
Info
Supported Operations:
Export Map
Return Updates